BEGIN:VCALENDAR
VERSION:2.0
PRODID:-//hacksw/handcal//NONSGML v1.0//EN
BEGIN:VEVENT
DTSTART:20260417T180000
DTEND:20260417T200000
LOCATION:The Happenstance \n10 Paternoster Square London \nEC4M 7DX London
ORGANIZER;CN=Mariem Ben Amor - ATUGE UK:MAILTO:mariem.benamor@atuge.org
SUMMARY:ATUGE UK – Drinks & Chat Social Event  ''Tunisian Cross‑Field Excellence''
DESCRIPTION:Join us for an inspiring and relaxed evening as ATUGE UK brings together Tunisian professionals, students, and friends for a special social event celebrating '' Tunisian Cross‑Field Excellence '' the ...
URL:https://www.atuge.org/fr/group/atuge-uk/28/calendar/atuge-uk-drinks-chat-social-event-tunisian-cross-field-excellence/2026/04/17/342
BEGIN:VALARM
TRIGGER:-P0DT1H0M0S
ACTION:DISPLAY
END:VALARM
END:VEVENT
END:VCALENDAR