BEGIN:VCALENDAR
VERSION:2.0
PRODID:-//hacksw/handcal//NONSGML v1.0//EN
BEGIN:VEVENT
DTSTART:20260307T110000
DTEND:20260307T140000
LOCATION:https://us02web.zoom.us/meeting/register/jb34REfVQJ2EVmoRUcvAUw
ORGANIZER;CN=Maher Zaouali:MAILTO:maher.zaouali@atuge.org
SUMMARY:At'Venture 17 - Info Session
DESCRIPTION:🚀 Vous développez une startup innovante et souhaitez accélérer votre croissance ? Découvrez AT’Venture, le programme d’accompagnement de startups de l’ATUGE entre la Tunisie et la France, qui combine ...
URL:https://www.atuge.org/fr/event/at-venture-17-info-session/2026/03/07/337
BEGIN:VALARM
TRIGGER:-P0DT1H0M0S
ACTION:DISPLAY
END:VALARM
END:VEVENT
END:VCALENDAR