BEGIN:VCALENDAR
VERSION:2.0
PRODID:-//hacksw/handcal//NONSGML v1.0//EN
BEGIN:VEVENT
DTSTART:20260307T180000
DTEND:20260307T210000
LOCATION:Shaku Maku Dublin  \n192 Rathmines Rd Lower  \nDO6 Y3E88 Rathmines
ORGANIZER;CN=Mariem Ben Amor - ATUGE UK:MAILTO:mariem.benamor@atuge.org
SUMMARY:Ramadan Dinner in Dublin :crescent_moon:
DESCRIPTION:✨ Join us for a warm and festive Ramadan Dinner with the ATUGE community in Dublin. This gathering is a wonderful opportunity to connect, share a meal, and celebrate the spirit of togetherness during ...
URL:https://www.atuge.org/fr/group/atuge-uk/28/calendar/ramadan-dinner-in-dublin-crescent-moon/2026/03/07/334
BEGIN:VALARM
TRIGGER:-P0DT1H0M0S
ACTION:DISPLAY
END:VALARM
END:VEVENT
END:VCALENDAR