BEGIN:VCALENDAR
VERSION:2.0
PRODID:-//hacksw/handcal//NONSGML v1.0//EN
BEGIN:VEVENT
DTSTART:20260315T230000
DTEND:20260315T235500
LOCATION:
ORGANIZER;CN=Maher Zaouali:MAILTO:maher.zaouali@atuge.org
SUMMARY:Appel à candidatures – Programme d’incubation | 17ᵉ édition
DESCRIPTION:\nVous développez une startup innovante et vous êtes en phase d’amorçage avec un prototype fonctionnel ?Vous êtes basé.e en France ou en  Tunisie ?\nCe programme est conçu pour vous accompagner dans...
URL:https://www.atuge.org/fr/event/appel-a-candidatures-programme-d-incubation-17-edition/2026/03/15/330
BEGIN:VALARM
TRIGGER:-P0DT1H0M0S
ACTION:DISPLAY
END:VALARM
END:VEVENT
END:VCALENDAR