BEGIN:VCALENDAR
VERSION:2.0
PRODID:-//hacksw/handcal//NONSGML v1.0//EN
BEGIN:VEVENT
DTSTART:20230928T200000
DTEND:20230930T220000
LOCATION:Courthouse Hotel \n19, Great Marlborough Street \nW1F 7HL LONDON
ORGANIZER;CN=Amine TRIKI - ATUGE UK:MAILTO:a_triki@yahoo.fr
SUMMARY:Alyssa Tunisian Film Festival  - 3rd Edition
DESCRIPTION:Dear member,\nWe are delighted to confirm that Alyssa Tunisian Film Festival is taking place on the 28th & 30th of September 2023 at the Courthouse hotel in London.\n \nPlease see the full agenda...
URL:https://www.atuge.org/fr/group/atuge-uk/28/calendar/alyssa-tunisian-film-festival-3rd-edition/2023/09/28/202
BEGIN:VALARM
TRIGGER:-P0DT1H0M0S
ACTION:DISPLAY
END:VALARM
END:VEVENT
END:VCALENDAR