BEGIN:VCALENDAR
VERSION:2.0
PRODID:-//hacksw/handcal//NONSGML v1.0//EN
BEGIN:VEVENT
DTSTART:20251129T000000
DTEND:20261231T235500
LOCATION:http://uk.atuge.org
ORGANIZER;CN=Amine TRIKI - ATUGE UK:MAILTO:a_triki@yahoo.fr
SUMMARY:ATUGE UK 2026 Membership Payment
DESCRIPTION:Please select your membership category to make your payment:\n£40  for professionals£10 for studentsAny additional donation to support ATUGE UK activities\nFor any question or request, please contact ...
URL:https://www.atuge.org/fr/group/atuge-uk/28/calendar/atuge-uk-2026-membership-payment/2025/11/29/147
BEGIN:VALARM
TRIGGER:-P0DT1H0M0S
ACTION:DISPLAY
END:VALARM
END:VEVENT
END:VCALENDAR